BEGIN:VCALENDAR
VERSION:2.0
PRODID:-//wp-events-plugin.com//7.2.3.1//EN
TZID:Europe/Berlin
X-WR-TIMEZONE:Europe/Berlin
BEGIN:VEVENT
UID:545@ker-leipzig.de
DTSTART;TZID=Europe/Berlin:20240220T090000
DTEND;TZID=Europe/Berlin:20240220T140000
DTSTAMP:20240107T131247Z
URL:https://ker-leipzig.de/events/loetfiguren-basteln/
SUMMARY:Lötfiguren basteln
DESCRIPTION:Manchmal kann man kaputte Elektronik einfach durch Löten repar
 ieren\, Mit etwas Krea-tivität\, Fingerspitzengefühl und der Fähigkeit 
 zu löten\, kann man sich aber auch außerge-wöhnliche Dekoration schaffe
 n. Bist Du bereit\, alten Kondensatoren\, Leiterplatten und Widerständen 
 neues Leben einzuhauchen?\n\n 	Alter 10 - 16 Jahre\, Teilnahme kostenfrei\
 n 	Anmeldung an buchung@g-a-r-a-g-e.com\n\nhttps://mint-aktiv.com/mintwelt
 en/
ATTACH;FMTTYPE=image/jpeg:https://ker-leipzig.de/wp-content/uploads/2020/1
 0/cropped-logo-wp-start.jpg
CATEGORIES:Berufsorientierung
LOCATION:VDI-Garage gGmbH\, Karl-Heine-Straße 97\, Leipzig\, 04229\, Deuts
 chland
X-APPLE-STRUCTURED-LOCATION;VALUE=URI;X-ADDRESS=Karl-Heine-Straße 97\, Lei
 pzig\, 04229\, Deutschland;X-APPLE-RADIUS=100;X-TITLE=VDI-Garage gGmbH:geo
 :0,0
END:VEVENT
BEGIN:VTIMEZONE
TZID:Europe/Berlin
X-LIC-LOCATION:Europe/Berlin
BEGIN:STANDARD
DTSTART:20231029T020000
TZOFFSETFROM:+0200
TZOFFSETTO:+0100
TZNAME:CET
END:STANDARD
END:VTIMEZONE
END:VCALENDAR